Workbook

Sheet 2025 Impact on Operating
A1: Building & Ground | B1: Savings (Expense) | C1: Source of Savings
A2: HVAC System | B2: 15000 | C2: Energy efficiency; reduced maintenance costs.
A3: Building & Zoning | B3: Savings (Expense) | C3: Source of Savings
A4: Vehicle | B4: 4500 | C4: Fuel efficiency; reduced maintenance costs
A5: Fire & Emergency Services | B5: Savings (Expense) | C5: Source of Savings
A6: Vehicle (Fire) | B6: 1000 | C6: Fuel efficiency; reduced maintenance costs.
A7: Information Technology | B7: Savings (Expense) | C7: Source of Savings
A8: Conference Room Technology | B8: 1600 | C8: Staff efficiency of 40 hours per year.
A9: Parks & Recreation | B9: Savings (Expense) | C9: Source of Savings
A10: Vehicle | B10: -2500 | C10: Added fleet vehicle maintenance; offset by reduced mileage reimbursement.
A11: Tree Remediation | B11: 16000 | C11: Staff efficiency of 400 hours for reduced maintenance.
A12: Middletown Community Park | B12: -4200 | C12: Wireless internet service costs.
A13: Forsythia Crossing Park | B13: 4000 | C13: Reduced maintenance of 100 hours per year.
A14: Police | B14: Savings (Expense) | C14: Source of Savings
A15: Vehicles (Police) | B15: 7000 | C15: Fuel efficiency; reduced maintenance costs.
A16: License Plate Readers | B16: -16000 | C16: Annual maintenance contract cost.
A17: Body and In-Car Cameras | B17: -25000 | C17: Cost of additional part-time employee.
A18: Public Works | B18: Savings (Expense) | C18: Source of Savings
A19: Road Improvement | B19: 25000 | C19: Staff efficiency of 500 hours for less road maintenance; savings on road repair materials.
A20: Public Works Site Improvements | B20: =50*100 -> 5000 | C20: Staff efficiency of 100 hours; energy efficiency; utility reduction.
A21: Vehicles (DPW) | B21: 10500 | C21: Fuel efficiency; reduced maintenance costs.
A22: Heavy Equipment (DPW) | B22: 7000 | C22: Staff efficiency of 100 hours; fuel efficiency; reduced maintenance costs; additional piece of equipment (added maintenance).
A23: Light Equipment (DPW) | B23: 1000 | C23: Reduced contracted services.
A24: Shop Equipment | B24: 1000 | C24: Reduced contracted services.
A25: Streetlight Pole Replacement | B25: =-50*200 -> -10000 | C25: 200 hours of staff time to execute project.
A26: Stormwater | B26: Savings (Expense) | C26: Source of Savings
A27: Neighborhood Drainage Projects | B27: 10000 | C27: Estimated reduction in staff time for maintenance.
A28: Langhorne Gables Phase II | B28: 5000 | C28: Estimated reduction in staff time for maintenance.
A29: Sustainability | B29: Savings (Expense) | C29: Source of Savings
A30: Solar Panels | B30: 12500 | C30: Reduced energy consumption and revenue from solar renewable energy credits (SRECs).
A31: Transportation | B31: Savings (Expense) | C31: Source of Savings
A32: Langhorne-Yardley Road Maple Point Crossing | B32: -250 | C32: Increased energy utilization for new amenity.
A33: School Zone Improvements | B33: 1000 | C33: Reduced energy consumption.
A34: Maple Avenue/N. Flowers Mill Signal Improvements | B34: 5000 | C34: Reduced contracted services.
A35: TOTAL NET SAVINGS | B35: =SUM(B2:B34) -> 74150

Sheet 2023 ShowDoc Graphs
A1: Building & Grounds | C1: Priority | D1: PROJECT COST
A2: Public Hall Improvements | B2: Building Improvements | C2: 1 | D2: 30000 | F2: Building Improvements | G2: =D2+D3+D64+D4 -> 1944250
A3: Municipal Center Improvements | B3: Building Improvements | C3: 1 | D3: 150000 | F3: Equipment | G3: =D11+D12+D13+D17+D18+D19+D20+D33+D34+D35+D46+D47+D49+D50+D62+D73 -> 908700
A4: Langhorne Spring Site Improvements | B4: Building Improvements | C4: 1 | D4: 14250 | F4: Land Improvements | G4: =D24+D25+D26+D27+D29+D41+D42+D43+D44+D48+D51+D54+D55+D56+D58+D59+D63+D65+D68+D69+D71+D72+D74+D75 -> 8376000
A5: TOTAL | D5: =SUM(D2:D4) -> 194250 | F5: Professional Services | G5: =D23+D57+D70+D76+D77 -> 480000
A6: Building & Zoning | F6: Vehicles | G6: =D7+D10+D14+D28+D32+D45 -> 1825500
A7: Electric Vehicle | B7: Vehicles | C7: 1 | D7: 40000 | G7: =SUM(G2:G6) -> 13534450
A8: TOTAL | D8: =D7 -> 40000
A9: Fire & Emergency Services
A10: Fire Engine & Equipment | B10: Vehicles | C10: 1 | D10: 1000000
A11: Air Packs | B11: Equipment | C11: 1 | D11: 100000
A12: Turnout Gear | B12: Equipment | C12: 1 | D12: 45000
A13: Radio Equipment | B13: Equipment | C13: 1 | D13: 6700
A14: Vehicle Retrofit | B14: Vehicles | C14: 2 | D14: 7500
A15: TOTAL | D15: =SUM(D10:D14) -> 1159200
A16: Information Technology
A17: Desktop Computer Replacement | B17: Equipment | C17: 1 | D17: 30000
A18: Network Maintenance | B18: Equipment | C18: 1 | D18: 30000
A19: Patrol Mobile Data Terminals (MDTs) | B19: Equipment | C19: 1 | D19: 6000
A20: Conference Room Technology | B20: Equipment | C20: 1 | D20: 9000
A21: TOTAL | D21: =SUM(D17:D20) -> 75000
A22: Parks & Recreation
A23: Comprehensive Parks Plan | B23: Professional Services | C23: 1 | D23: 110000
A24: Firefighters' Park | B24: Land Improvements | C24: 1 | D24: 300000
A25: Tree Remediation | B25: Land Improvements | C25: 1 | D25: 30000
A26: Community Center | B26: Land Improvements | C26: 1 | D26: 11000
A27: Middletown Community Park | B27: Land Improvements | C27: 1 | D27: 35000
A28: Electric Vehicle | B28: Vehicles | C28: 2 | D28: 40000
A29: Forsythia Crossing Park | B29: Land Improvements | C29: 2 | D29: 1000000
A30: TOTAL | D30: =SUM(D23:D29) -> 1526000
A31: Police
A32: Vehicles & Equipment | B32: Vehicles | C32: 1 | D32: 285000
A33: Body Cameras | B33: Equipment | C33: 1 | D33: 300000
A34: Active Shooter Simulator | B34: Equipment | C34: 1 | D34: 50000
A35: Entry Tool Kits | B35: Equipment | C35: 1 | D35: 15000
A36: TOTAL | D36: =SUM(D32:D35) -> 650000
A38: 2023 CAPITAL IMPROVEMENT PROJECTS BY CATEGORY (CONT.)
A39: Category // Project | D39: TOTAL
A40: Public Works | C40: Priority | D40: PROJECT COST
A41: Road Improvement | B41: Land Improvements | C41: 1 | D41: 1000000
...

Sheet P1
A1: 2024 CAPITAL IMPROVEMENT PROJECTS BY CATEGORY - PRIORITY 1
A2: Category // Project | C2: TOTAL | D2: Earned | E2: RDA | F2: Potential | G2: Due From | H2: Capital Fund
C3: PROJECT | D3: Grant | E3: Grant | F3: Grant | G3: Other | H3: Fund
A4: Fire & Emergency Services | B4: Priority | C4: COST | D4: Funding | E4: Requests | F4: Funding | G4: Funds | H4: Cost
A5: Fire Command Vehicle | B5: 1 | C5: 75000 | D5: 0 | E5: 71923 | F5: 0 | G5: 0 | H5: =C5-(D5+F5+E5+G5) -> 3077
A6: New Hire Turnout Gear | B6: 1 | C6: 20000 | D6: 0 | E6: 0 | F6: 0 | G6: 0 | H6: =C6-(D6+F6+E6+G6) -> 20000
A7: TOTAL | C7: =SUM(C5:C6) -> 95000 | D7: =SUM(D5:D6) -> 0 | E7: =SUM(E5:E6) -> 71923 | F7: =SUM(F5:F6) -> 0 | G7: =SUM(G5:G6) -> 0 | H7: =SUM(H5:H6) -> 23077
A8: Information Technology
A9: Desktop Computer Replacement | B9: 1 | C9: 28000 | D9: 0 | E9: 0 | F9: 0 | G9: 0 | H9: =C9-(D9+F9+E9+G9) -> 28000
A10: Patrol Mobile Data Terminals (MDTs) | B10: 1 | C10: 5000 | D10: 0 | E10: 0 | F10: 0 | G10: 0 | H10: =C10-(D10+F10+E10+G10) -> 5000
A11: Broadcast System Upgrades | B11: 1 | C11: 20000 | D11: 0 | E11: 0 | F11: 0 | G11: 0 | H11: =C11-(D11+F11+E11+G11) -> 20000
A12: TOTAL | C12: =SUM(C9:C11) -> 53000 | D12: =SUM(D9:D11) -> 0 | E12: =SUM(E9:E11) -> 0 | F12: =SUM(F9:F11) -> 0 | G12: =SUM(G9:G11) -> 0 | H12: =SUM(H9:H11) -> 53000
A13: Parks & Recreation
A14: Comprehensive Parks Plan | B14: 1 | C14: 110000 | D14: 55000 | E14: 0 | F14: 0 | G14: 0 | H14: =C14-(D14+F14+E14+G14) -> 55000
A15: Vehicle | B15: 1 | C15: 45000 | D15: 0 | E15: 0 | F15: 0 | G15: 0 | H15: =C15-(D15+F15+E15+G15) -> 45000
A16: Tree Remediation | B16: 1 | C16: 30000 | D16: 0 | E16: 0 | F16: 0 | G16: 0 | H16: =C16-(D16+F16+E16+G16) -> 30000
A17: Middletown Community Park | B17: 1 | C17: 245000 | D17: 0 | E17: 0 | F17: 0 | G17: 0 | H17: =C17-(D17+F17+E17+G17) -> 245000
A18: Concession Stand Safety Project | B18: 1 | C18: 15000 | D18: 0 | E18: 0 | F18: 0 | G18: 0 | H18: =C18-(D18+F18+E18+G18) -> 15000
A19: Forsythia Crossing Park | B19: 1 | C19: 500000 | D19: 500000 | E19: 0 | F19: 0 | G19: 0 | H19: =C19-(D19+F19+E19+G19) -> 0
A20: TOTAL | C20: =SUM(C14:C19) -> 945000 | D20: =SUM(D14:D19) -> 555000 | E20: =SUM(E14:E19) -> 0 | F20: =SUM(F14:F19) -> 0 | G20: =SUM(G14:G19) -> 0 | H20: =SUM(H14:H19) -> 390000
A21: Police
A22: Vehicles & Equipment | B22: 1 | C22: 325000 | D22: 0 | E22: =153950+67841 -> 221791 | F22: 0 | G22: 0 | H22: =C22-(D22+F22+E22+G22) -> 103209
A23: License Plate Readers | B23: 1 | C23: 16000 | D23: 0 | E23: 16000 | F23: 0 | G23: 0 | H23: =C23-(D23+F23+E23+G23) -> 0
A24: Body & In-Car Cameras | B24: 1 | C24: 105000 | D24: 52500 | E24: 0 | F24: 0 | G24: 0 | H24: =C24-(D24+F24+E24+G24) -> 52500
A25: Duty Pistol Upgrade | B25: 1 | C25: 62000 | D25: 0 | E25: 0 | F25: 0 | G25: 0 | H25: =C25-(D25+F25+E25+G25) -> 62000
A26: TOTAL | C26: =SUM(C22:C25) -> 508000 | D26: =SUM(D22:D25) -> 52500 | E26: =SUM(E22:E25) -> 237791 | F26: =SUM(F22:F25) -> 0 | G26: =SUM(G22:G25) -> 0 | H26: =SUM(H22:H25) -> 217709
A27: Public Works
A28: Road Improvement | B28: 1 | C28: 900000 | D28: 0 | E28: 0 | F28: 0 | G28: 900000 | H28: =C28-(D28+F28+E28+G28) -> 0
A29: Public Works Site Improvements | B29: 1 | C29: 2680000 | D29: 0 | E29: 0 | F29: 0 | G29: 0 | H29: =C29-(D29+F29+E29+G29) -> 2680000
A30: Vehicles | B30: 1 | C30: 515000 | D30: 0 | E30: =253797+130661+93446 -> 477904 | F30: 0 | G30: =20000+(C30-E30-20000) -> 37096 | H30: =C30-(D30+F30+E30+G30) -> 0
A31: Heavy Equipment (Tractor) | B31: 1 | C31: 143000 | D31: 0 | E31: 0 | F31: 0 | G31: 143000 | H31: =C31-(D31+F31+E31+G31) -> 0
A32: Light Equipment (Zero Turn Mower) | B32: 1 | C32: 17500 | G32: 17500 | H32: =C32-(D32+F32+E32+G32) -> 0
A33: Shop Equipment | B33: 1 | C33: 7500 | D33: 0 | E33: 0 | F33: 0 | G33: 0 | H33: =C33-(D33+F33+E33+G33) -> 7500
A34: Streetlight Pole Replacement | B34: 1 | C34: 30000 | D34: 0 | E34: 0 | F34: 0 | G34: 30000 | H34: =C34-(D34+F34+E34+G34) -> 0
A35: Intersection Improvements | B35: 1 | C35: 35000 | D35: 0 | E35: 0 | F35: 0 | G35: 35000 | H35: =C35-(D35+F35+E35+G35) -> 0
A36: Street Signs | B36: 1 | C36: 20000 | D36: 0 | E36: 0 | F36: 0 | G36: 0 | H36: =C36-(D36+F36+E36+G36) -> 20000
A37: TOTAL | C37: =SUM(C28:C36) -> 4348000 | D37: =SUM(D28:D36) -> 0 | E37: =SUM(E28:E36) -> 477904 | F37: =SUM(F28:F36) -> 0 | G37: =SUM(G28:G36) -> 1162596 | H37: =SUM(H28:H36) -> 2707500
A38: Storm Sewer & Drains
A39: Emergency Drainage Projects | B39: 1 | C39: 250000 | D39: 0 | E39: 0 | F39: 0 | G39: 0 | H39: =C39-(D39+F39+E39+G39) -> 250000
A40: Inlet Tops & Collars | B40: 1 | C40: 30000 | D40: 0 | E40: 0 | F40: 0 | G40: 0 | H40: =C40-(D40+F40+E40+G40) -> 30000
...

Sheet P2
A1: 2024 CAPITAL IMPROVEMENT PROJECTS BY CATEGORY - PRIORITY 2
A2: Category // Project | C2: TOTAL | D2: Earned | E2: RDA Grant | F2: Potential | G2: Due From | H2: Capital Fund
A3: Building & Grounds | B3: Priority | C3: PROJECT COST | D3: Grant Funding | E3: Requests | F3: Grant Funding | G3: Other Funds | H3: Cost
A4: HVAC System | B4: 2 | C4: 550000 | D4: 0 | E4: 0 | F4: 0 | G4: 0 | H4: =C4-(D4+F4+E4+G4) -> 550000
A5: Public Hall Improvements | B5: 2 | C5: 35000 | D5: 0 | E5: 0 | F5: 0 | G5: 0 | H5: =C5-(D5+F5+E5+G5) -> 35000
A6: TOTAL | C6: =SUM(C4:C5) -> 585000 | D6: =SUM(D4:D5) -> 0 | E6: =SUM(E4:E5) -> 0 | F6: =SUM(F4:F5) -> 0 | G6: =SUM(G4:G5) -> 0 | H6: =SUM(H4:H5) -> 585000
A7: Building & Zoning
A8: Electric Vehicle | B8: 2 | C8: 35000 | D8: 7500 | E8: 0 | F8: 0 | G8: 0 | H8: =C8-(D8+F8+E8+G8) -> 27500
A9: TOTAL | C9: =C8 -> 35000 | D9: =D8 -> 7500 | E9: =E8 -> 0 | F9: =F8 -> 0 | G9: =G8 -> 0 | H9: =H8 -> 27500
A10: Fire & Emergency Services
A11: Fire Prevention | B11: 2 | C11: 17000 | D11: 0 | E11: 0 | F11: 17000 | G11: 0 | H11: =C11-(D11+F11+E11+G11) -> 0
A12: TOTAL | C12: =SUM(C11:C11) -> 17000 | D12: =SUM(D11:D11) -> 0 | E12: =SUM(E11:E11) -> 0 | F12: =SUM(F11:F11) -> 17000 | G12: =SUM(G11:G11) -> 0 | H12: =SUM(H11:H11) -> 0
A13: Information Technology
A14: Conference Room Technology | B14: 2 | C14: 20000 | D14: 0 | E14: 0 | F14: 0 | G14: 0 | H14: =C14-(D14+F14+E14+G14) -> 20000
A15: TOTAL | C15: =SUM(C14:C14) -> 20000 | D15: =SUM(D14:D14) -> 0 | E15: =SUM(E14:E14) -> 0 | F15: =SUM(F14:F14) -> 0 | G15: =SUM(G14:G14) -> 0 | H15: =SUM(H14:H14) -> 20000
A16: Public Works
A17: Heavy Equipment (Forklift) | B17: 2 | C17: 35000 | D17: 0 | E17: 0 | F17: 0 | G17: 35000 | H17: =C17-(D17+F17+E17+G17) -> 0
A18: Light Equipment (Pressure Washer) | B18: 2 | C18: 8500 | D18: 0 | E18: 0 | F18: 0 | G18: 0 | H18: =C18-(D18+F18+E18+G18) -> 8500
A19: Road Condition Assessment Tool | B19: 2 | C19: 30000 | D19: 0 | E19: 0 | F19: 0 | G19: 0 | H19: =C19-(D19+F19+E19+G19) -> 30000
A20: Guiderail Work | B20: 2 | C20: 45000 | D20: 0 | E20: 0 | F20: 0 | G20: 0 | H20: =C20-(D20+F20+E20+G20) -> 45000
A21: Levittown Footbridges | B21: 2 | C21: 30000 | D21: 0 | E21: 0 | F21: 0 | G21: 0 | H21: =C21-(D21+F21+E21+G21) -> 30000
A22: TOTAL | C22: =SUM(C17:C21) -> 148500 | D22: =SUM(D17:D21) -> 0 | E22: =SUM(E17:E21) -> 0 | F22: =SUM(F17:F21) -> 0 | G22: =SUM(G17:G21) -> 35000 | H22: =SUM(H17:H21) -> 113500
A23: Storm Sewer & Drains
A24: Richardson Avenue | B24: 2 | C24: 275000 | D24: 0 | E24: 0 | F24: 0 | G24: 0 | H24: =C24-(D24+F24+E24+G24) -> 275000
A25: Playwicki Street Culvert Replacement | B25: 2 | C25: 95000 | D25: 0 | E25: 0 | F25: 0 | G25: 0 | H25: =C25-(D25+F25+E25+G25) -> 95000
A26: Langhorne Gables Phase II | B26: 2 | C26: 2010000 | D26: 0 | E26: 0 | F26: 1000000 | G26: 0 | H26: =C26-(D26+F26+E26+G26) -> 1010000
A27: TOTAL | C27: =SUM(C24:C26) -> 2380000 | D27: =SUM(D24:D26) -> 0 | E27: =SUM(E24:E26) -> 0 | F27: =SUM(F24:F26) -> 1000000 | G27: =SUM(G24:G26) -> 0 | H27: =SUM(H24:H26) -> 1380000
A28: Sustainability
A29: Recycling Containers at Parks | B29: 2 | C29: 50000 | D29: 0 | E29: 0 | F29: 0 | G29: 0 | H29: =C29-(D29+F29+E29+G29) -> 50000
A30: TOTAL | C30: =SUM(C29:C29) -> 50000 | D30: =SUM(D29:D29) -> 0 | E30: =SUM(E29:E29) -> 0 | F30: =SUM(F29:F29) -> 0 | G30: =SUM(G29:G29) -> 0 | H30: =SUM(H29:H29) -> 50000
A31: Transportation
A32: Turn Lane Addition | B32: 2 | C32: 50000 | D32: 0 | E32: 0 | F32: 0 | G32: 0 | H32: =C32-(D32+F32+E32+G32) -> 50000
A33: Traffic Signal Preemption Replacement | B33: 2 | C33: 40000 | D33: 0 | E33: 0 | F33: 0 | G33: 0 | H33: =C33-(D33+F33+E33+G33) -> 40000
A34: Traffic Signal Mast Arm Replacement | B34: 2 | C34: 70000 | D34: 0 | E34: 0 | F34: 0 | G34: 0 | H34: =C34-(D34+F34+E34+G34) -> 70000
A35: Multimodal Plan Implementation | B35: 2 | C35: 150000 | D35: 0 | E35: 0 | F35: 0 | G35: 0 | H35: =C35-(D35+F35+E35+G35) -> 150000
A36: Pedestrian Signal Equipment Upgrades | B36: 2 | C36: 265000 | D36: 0 | E36: 0 | F36: 229008 | G36: 0 | H36: =C36-(D36+F36+E36+G36) -> 35992
A37: TOTAL | C37: =SUM(C32:C36) -> 575000 | D37: =SUM(D32:D36) -> 0 | E37: =SUM(E32:E36) -> 0 | F37: =SUM(F32:F36) -> 229008 | G37: =SUM(G32:G36) -> 0 | H37: =SUM(H32:H36) -> 345992
A38: TOTAL COSTS | C38: =C6+C9+C12+C15+C22+C27+C30+C37 -> 3810500 | D38: =D6+D9+D12+D15+D22+D27+D30+D37 -> 7500 | E38: =E6+E9+E12+E15+E22+E27+E30+E37 -> 0 | F38: =F6+F9+F12+F15+F22+F27+F30+F37 -> 1246008 | G38: =G6+G9+G12+G15+G22+G27+G30+G37 -> 35000 | H38: =H6+H9+H12+H15+H22+H27+H30+H37 -> 2521992
C69: Priority 1 Total | I69: Priority 2 Total
A70: Administration | C70: 40000 | I70: 0
...

Sheet ShowDoc 2024
A1: 2024 CAPITAL IMPROVEMENT PROJECTS BY CATEGORY
A2: Category // Project | C2: TOTAL | D2: Earned | E2: RDA Grant | F2: Potential | G2: Due From | H2: Capital Fund
A3: Building & Grounds | B3: Priority | C3: PROJECT COST | D3: Grant Funding | E3: Requests | F3: Grant Funding | G3: Other Funds | H3: Cost
A4: HVAC System | B4: 2 | C4: 550000 | D4: 0 | E4: 0 | F4: 0 | G4: 0 | H4: =C4-(D4+F4+E4+G4) -> 550000
A5: Public Hall Improvements | B5: 2 | C5: 35000 | D5: 0 | E5: 0 | F5: 0 | G5: 0 | H5: =C5-(D5+F5+E5+G5) -> 35000
A6: TOTAL | C6: =SUM(C4:C5) -> 585000 | D6: =SUM(D4:D5) -> 0 | E6: =SUM(E4:E5) -> 0 | F6: =SUM(F4:F5) -> 0 | G6: =SUM(G4:G5) -> 0 | H6: =SUM(H4:H5) -> 585000
A7: Building & Zoning
A8: Electric Vehicle | B8: 2 | C8: 35000 | D8: 7500 | E8: 0 | F8: 0 | G8: 0 | H8: =C8-(D8+F8+E8+G8) -> 27500
A9: TOTAL | C9: =C8 -> 35000 | D9: =D8 -> 7500 | E9: =E8 -> 0 | F9: =F8 -> 0 | G9: =G8 -> 0 | H9: =H8 -> 27500
A10: Fire & Emergency Services
A11: Fire Command Vehicle | B11: 1 | C11: 75000 | D11: 0 | E11: 75000 | F11: 0 | G11: 0 | H11: =C11-(D11+F11+E11+G11) -> 0
A12: New Hire Turnout Gear | B12: 1 | C12: 20000 | D12: 0 | E12: 0 | F12: 0 | G12: 0 | H12: =C12-(D12+F12+E12+G12) -> 20000
A13: Fire Prevention | B13: 2 | C13: 17000 | D13: 0 | E13: 0 | F13: 17000 | G13: 0 | H13: =C13-(D13+F13+E13+G13) -> 0
A14: TOTAL | C14: =SUM(C11:C13) -> 112000 | D14: =SUM(D11:D13) -> 0 | E14: =SUM(E11:E13) -> 75000 | F14: =SUM(F11:F13) -> 17000 | G14: =SUM(G11:G13) -> 0 | H14: =SUM(H11:H13) -> 20000
A15: Information Technology
A16: Desktop Computer Replacement | B16: 1 | C16: 28000 | D16: 0 | E16: 0 | F16: 0 | G16: 0 | H16: =C16-(D16+F16+E16+G16) -> 28000
A17: Patrol Mobile Data Terminals (MDTs) | B17: 1 | C17: 5000 | D17: 0 | E17: 0 | F17: 0 | G17: 0 | H17: =C17-(D17+F17+E17+G17) -> 5000
A18: Broadcast System Upgrades | B18: 1 | C18: 20000 | D18: 0 | E18: 0 | F18: 0 | G18: 0 | H18: =C18-(D18+F18+E18+G18) -> 20000
A19: Conference Room Technology | B19: 2 | C19: 20000 | D19: 0 | E19: 0 | F19: 0 | G19: 0 | H19: =C19-(D19+F19+E19+G19) -> 20000
A20: TOTAL | C20: =SUM(C16:C19) -> 73000 | D20: =SUM(D16:D19) -> 0 | E20: =SUM(E16:E19) -> 0 | F20: =SUM(F16:F19) -> 0 | G20: =SUM(G16:G19) -> 0 | H20: =SUM(H16:H19) -> 73000
A21: Parks & Recreation
A22: Comprehensive Parks Plan | B22: 1 | C22: 110000 | D22: 55000 | E22: 0 | F22: 0 | G22: 0 | H22: =C22-(D22+F22+E22+G22) -> 55000
A23: Vehicle | B23: 1 | C23: 45000 | D23: 0 | E23: 0 | F23: 0 | G23: 0 | H23: =C23-(D23+F23+E23+G23) -> 45000
A24: Tree Remediation | B24: 1 | C24: 30000 | D24: 0 | E24: 0 | F24: 0 | G24: 0 | H24: =C24-(D24+F24+E24+G24) -> 30000
A25: Middletown Community Park | B25: 1 | C25: 245000 | D25: 0 | E25: 0 | F25: 0 | G25: 0 | H25: =C25-(D25+F25+E25+G25) -> 245000
A26: Concession Stand Safety Project | B26: 1 | C26: 15000 | D26: 0 | E26: 0 | F26: 0 | G26: 0 | H26: =C26-(D26+F26+E26+G26) -> 15000
A27: Forsythia Crossing Park | B27: 1 | C27: 500000 | D27: 0 | E27: 0 | F27: =C27 -> 500000 | G27: 0 | H27: =C27-(D27+F27+E27+G27) -> 0
A28: TOTAL | C28: =SUM(C22:C27) -> 945000 | D28: =SUM(D22:D27) -> 55000 | E28: =SUM(E22:E27) -> 0 | F28: =SUM(F22:F27) -> 500000 | G28: =SUM(G22:G27) -> 0 | H28: =SUM(H22:H27) -> 390000
A29: Police
A30: Vehicles & Equipment | B30: 1 | C30: 325000 | D30: 0 | E30: 325000 | F30: 0 | G30: 0 | H30: =C30-(D30+F30+E30+G30) -> 0
A31: License Plate Readers | B31: 1 | C31: 16000 | D31: 0 | E31: 16000 | F31: 0 | G31: 0 | H31: =C31-(D31+F31+E31+G31) -> 0
A32: Body & In-Car Cameras | B32: 1 | C32: 105000 | D32: 52500 | E32: 0 | F32: 0 | G32: 0 | H32: =C32-(D32+F32+E32+G32) -> 52500
A33: Duty Pistol Upgrade | B33: 1 | C33: 62000 | D33: 0 | E33: 0 | F33: 0 | G33: 0 | H33: =C33-(D33+F33+E33+G33) -> 62000
A34: TOTAL | C34: =SUM(C30:C33) -> 508000 | D34: =SUM(D30:D33) -> 52500 | E34: =SUM(E30:E33) -> 341000 | F34: =SUM(F30:F33) -> 0 | G34: =SUM(G30:G33) -> 0 | H34: =SUM(H30:H33) -> 114500
A36: 2024 CAPITAL IMPROVEMENT PROJECTS BY CATEGORY (CONT.)
A37: Category // Project | C37: TOTAL | D37: Earned | E37: RDA Grant | F37: Potential | G37: Due From | H37: Capital Fund
A38: Public Works | B38: Priority | C38: PROJECT COST | D38: Grant Funding | E38: Requests | F38: Grant Funding | G38: Other Funds | H38: Cost
A39: Road Improvement Program | B39: 1 | C39: 900000 | D39: 0 | E39: 0 | F39: 0 | G39: 900000 | H39: =C39-(D39+F39+E39+G39) -> 0
A40: Public Works Site Improvements | B40: 1 | C40: 2680000 | D40: 0 | E40: 0 | F40: 0 | G40: 0 | H40: =C40-(D40+F40+E40+G40) -> 2680000
A41: Vehicles | B41: 1 | C41: 515000 | D41: 0 | E41: 495000 | F41: 0 | G41: 20000 | H41: =C41-(D41+F41+E41+G41) -> 0
...

Sheet Master 2025-2030
A1: # | B1: Project Name | C1: Project Description | D1: Project Category | E1: Account | F1: 2025 Budget | G1: 2025 Actuals | H1: 2026 Budget | I1: 2026 Actuals | J1: 2026 Projection | K1: % Complete | L1: 2027 Budget | M1: 2028 Budget | N1: 2029 Budget | O1: 2030 Budget | P1: Grant Name | Q1: Account | R1: Grant Status | S1: Grant Budget | T1: Grant Actuals | U1: Grant Projected | V1: Department | W1: Project Manager | X1: Asset Category | Y1: Useful Life | Z1: Replace/New | AA1: Funding Source | AB1: Bid/RFP/Quote | AC1: Expected savings (cost) of project on operating ($) | AD1: Rationale for impact on operating | AE1: Notes
A2: 1 | B2: Bar Renovation | C2: Bar Renovation | D2: Golf | E2: 15-452-700 | F2: 150000 | G2: 157959.64 | H2: 0 | I2: 0 | J2: 0 | K2: N/A | L2: 0 | M2: 0 | N2: 0 | O2: 0 | V2: Golf | W2: Mike Attara | Z2: Replace | AA2: Golf Fund
A3: =A2+1 -> 2 | B3: Beverage Cart | C3: Beverage Cart | D3: Golf | E3: 15-452-700 | F3: 0 | G3: 8700 | H3: 0 | I3: 0 | J3: 0 | K3: N/A | L3: 0 | M3: 0 | N3: 0 | O3: 0 | V3: Golf | W3: Mike Attara | Z3: Replace | AA3: Golf Fund
A4: =A3+1 -> 3 | B4: Bunker Reno | C4: Bunker Reno | D4: Golf | E4: 15-452-700 | F4: 25000 | G4: 16784.64 | H4: 0 | I4: 0 | J4: 0 | K4: N/A | L4: 0 | M4: 0 | N4: 0 | O4: 0 | V4: Golf | W4: Mike Attara | Z4: Replace | AA4: Golf Fund
A5: =A4+1 -> 4 | B5: Cart Path Pavement Patching | C5: Cart Path Pavement Patching | D5: Golf | E5: 15-452-700 | F5: 0 | G5: 10028.81 | H5: 0 | I5: 17218 | J5: 17218 | K5: 1 | L5: 0 | M5: 0 | N5: 0 | O5: 0 | V5: Golf | W5: Mike Attara | Z5: Maintenance
A6: =A5+1 -> 5 | B6: 9th hole pond lined and dredged | C6: Pond dredge and lined | D6: Golf | E6: 15-452-700 | F6: 0 | G6: 0 | H6: 0 | I6: 0 | J6: 0 | K6: N/A | L6: 0 | N6: 0 | O6: 1000000 | V6: Golf | W6: Mike Attara | Z6: Replace | AA6: Golf Fund and Golf Capital
A7: =A6+1 -> 6 | B7: New well on 15 | C7: add a new well on hole 15 to tie to pond on 9 | D7: Golf | E7: 15-452-700 | F7: 0 | G7: 0 | H7: 100000 | I7: 0 | J7: 0 | K7: 0 | L7: 150000 | M7: 0 | N7: 0 | O7: 0 | V7: Golf | W7: Mike Attara | Z7: New | AA7: Golf Fund and Golf Capital
A8: =A7+1 -> 7 | B8: Water service for pond | C8: eliminate sewer charges | D8: Golf | E8: 15-452-700 | F8: 0 | G8: 0 | H8: 150000 | I8: 6407 | J8: 170334.62 | K8: 0 | L8: 0 | M8: 0 | N8: 0 | O8: 0 | V8: Golf | W8: Mike Attara | Z8: Replace | AA8: Golf Fund and Golf Capital
A9: =A8+1 -> 8 | B9: Bunker Reno | C9: Complete fairway bunkers | D9: Golf | E9: 15-452-700 | F9: 0 | G9: 0 | H9: 0 | I9: 0 | J9: 0 | K9: N/A | M9: 0 | N9: 100000 | O9: 0 | V9: Golf | W9: Mike Attara | AA9: TBD
A10: =A9+1 -> 9 | B10: Driving Range Field Work | C10: Regrade the range | D10: Golf | E10: 15-452-700 | F10: 0 | G10: 0 | H10: 0 | I10: 0 | J10: 0 | K10: N/A | L10: 0 | M10: 75000 | N10: 75000 | O10: 0 | V10: Golf | W10: Mike Attara | AA10: TBD
A11: =A10+1 -> 10 | B11: Cover the Tees | C11: Cover the range 6 stalls | D11: Golf | E11: 15-452-700 | F11: 0 | G11: 0 | H11: 0 | I11: 0 | J11: 0 | K11: N/A | L11: 0 | M11: 200000 | N11: 0 | O11: 0 | V11: Golf | W11: Mike Attara | AA11: TBD
A12: =A11+1 -> 11 | B12: Deck Replacement | C12: Upgrade Deck to Composite | D12: Golf | E12: 15-452-700 | F12: 0 | G12: 0 | H12: 0 | I12: 0 | J12: 0 | K12: N/A | L12: 250000 | M12: 0 | N12: 0 | O12: 0 | V12: Golf | W12: Mike Attara | AA12: TBD
A13: =A12+1 -> 12 | B13: Clubhouse improvements windows/paint/roof | C13: Update failing windows, paint and roof. | D13: Golf | E13: 15-452-700 | F13: 0 | G13: 0 | H13: 0 | K13: N/A | L13: 80000 | M13: 100000 | N13: 50000 | O13: 0 | V13: Golf | W13: Mike Attara
A14: =A13+1 -> 13 | B14: Cart path improvements | C14: Cart path improvements annually | D14: Golf | E14: 15-452-700 | F14: 0 | G14: 0 | H14: 0 | K14: N/A | L14: 0 | M14: 0 | N14: 0 | O14: 0 | V14: Golf | W14: Mike Attara
A15: =A14+1 -> 14 | B15: Computers | C15: Computers | D15: IT | E15: 19-407-700 | F15: 0 | G15: 74240.11 | H15: 0 | I15: 0 | J15: 0 | K15: N/A | L15: 0 | M15: 0 | N15: 0 | O15: 0 | V15: IT | W15: ASK Technology | AA15: TBD
A16: =A15+1 -> 15 | B16: 2026 Server Project | C16: 2026 Server Project | D16: IT | E16: 19-407-700 | F16: 0 | G16: 0 | H16: 0 | I16: 223891.18 | J16: 223891.18 | K16: 1 | L16: 0 | M16: 0 | N16: 0 | O16: 0 | V16: IT | W16: ASK Technology
A17: =A16+1 -> 16 | B17: 2027 IT Firewall, Switches, and Access Points - Admin Building | C17: 2027 IT Firewall, Switches, and Access Points | D17: IT | E17: 19-407-700 | F17: 0 | G17: 0 | H17: 0 | I17: 0 | J17: 0 | K17: N/A | L17: 130830 | M17: 0 | N17: 0 | O17: 0 | V17: IT | W17: ASK Technology | AA17: Bond Fund and General Fund
A18: =A17+1 -> 17 | B18: 2027 IT Firewall, Switches, and Access Points - P&R | C18: 2027 IT Firewall, Switches, and Access Points - P&R | D18: IT | E18: 05-409-450 | F18: 0 | G18: 0 | H18: 0 | I18: 0 | J18: 0 | K18: N/A | L18: 21960 | M18: 0 | N18: 0 | O18: 0 | V18: IT | W18: ASK Technology
A19: =A18+1 -> 18 | B19: 2027 IT Firewall, Switches, and Access Points - Pool | C19: 2027 IT Firewall, Switches, and Access Points - P&R | D19: IT | E19: 09-452-450 | F19: 0 | G19: 0 | H19: 0 | I19: 0 | J19: 0 | K19: N/A | L19: 32924.88 | M19: 0 | N19: 0 | O19: 0 | V19: IT | W19: ASK Technology
A20: =A19+1 -> 19 | B20: Future Open Space Acquisition (1377 Woodside Road) | C20: Future Open Space Acquisition (1377 Woodside Road) | D20: Open Space | E20: 19-461-700 | F20: 0 | G20: 0 | H20: 0 | I20: 0 | J20: 0 | K20: N/A | L20: 2737500 | M20: 0 | N20: 0 | O20: 0 | V20: Administration | W20: David Kratzer | AA20: Bond Fund - $262,851.81/Remainder debt issued
A21: =A20+1 -> 20 | B21: Future Open Space Acquisition (Willard Family Properties) | C21: Future Open Space Acquisition (Willard Family Properties) | D21: Open Space | E21: 19-461-700 | F21: 0 | G21: 0 | H21: 0 | I21: 0 | J21: 0 | K21: N/A | L21: 1180000 | M21: 0 | N21: 0 | O21: 0 | V21: Administration | W21: David Kratzer | AA21: New Debt
A22: =A21+1 -> 21 | B22: Future Open Space Acquisition (Oxford Valley Road) | C22: Future Open Space Acquisition (Oxford Valley Road) | D22: Open Space | E22: 19-461-700 | F22: 0 | G22: 0 | H22: 0 | I22: 0 | J22: 0 | K22: N/A | L22: 300000 | M22: 0 | N22: 0 | O22: 0 | V22: Administration | W22: David Kratzer | AA22: New Debt
A23: =A22+1 -> 22 | B23: Future Open Space Acquisition (Big Oak Road) | C23: Future Open Space Acquisition (Big Oak Road) | D23: Open Space | E23: 19-461-700 | F23: 0 | G23: 0 | H23: 0 | I23: 0 | J23: 0 | K23: N/A | L23: 2100000 | M23: 0 | N23: 0 | O23: 0 | V23: Administration | W23: David Kratzer | AA23: New Debt
A24: =A23+1 -> 23 | B24: Basketball Mill and Pave P1/P2 | C24: Keystone Sports Construction Basketball Mill and Pave P1/P2 | D24: Park and Rec | E24: 06-454-700 | F24: 0 | G24: 42188.25 | H24: 0 | I24: 0 | J24: 0 | K24: N/A | L24: 0 | M24: 0 | N24: 0 | O24: 0 | V24: Administration | W24: David Kratzer
A25: =A24+1 -> 24 | B25: Memorial Park Expansion Engineering | C25: Memorial Park Expansion Engineering | D25: Park and Rec | E25: 06-454-700 | F25: 1210000 | G25: 40690.25 | H25: 800000 | I25: 36369.71 | J25: 60369.71 | K25: N/A | L25: 0 | M25: 0 | N25: 0 | O25: 0 | P25: DCED Grant - Deadline Jun - 2026 - No Match | Q25: 05-354-011 | R25: Awarded | S25: 900000 | U25: 900000 | V25: Park and Recreation | W25: Derek Fuller | Z25: Replace | AA25: P&R Fee in Lieu of Fund | AE25: While the original budget was over the grant amount we are adjusting to try to keep the project under the no match DCED amount of $900,000
A26: =A25+1 -> 25 | B26: Memorial Park Expansion Construction | C26: Memorial Park Expansion Construction | D26: Park and Rec | E26: 05-454-700 | F26: 0 | G26: 0 | H26: 0 | I26: 0 | J26: 0 | K26: N/A | L26: 822940.04 | M26: 0 | N26: 0 | O26: 0 | V26: Park and Recreation | W26: Derek Fuller
A27: =A26+1 -> 26 | B27: Kids Kingdom Design | C27: Kids Kingdom Design | D27: Park and Rec | E27: 05-454-700 | F27: 120000 | G27: 0 | H27: 0 | I27: 0 | J27: 0 | K27: N/A | L27: 0 | M27: 150000 | N27: 0 | O27: 0 | V27: Park and Recreation | W27: Derek Fuller | Z27: Replace | AA27: TBD
A28: =A27+1 -> 27 | B28: Trail Maintenance | C28: Trail Maintenance | D28: Park and Rec | E28: 06-454-700 | F28: 70000 | G28: 0 | H28: 0 | I28: 0 | J28: 0 | K28: 0.05 | L28: 0 | M28: 0 | N28: 0 | O28: 0 | V28: Park and Recreation | W28: Derek Fuller | Z28: Replace | AA28: P&R Fee in Lieu of Fund
A29: =A28+1 -> 28 | B29: Cardinal Court Repair with Sound Barriers | C29: Cardinal Court Repair with Sound Barriers | D29: Park and Rec | E29: 06-454-700 | F29: 400000 | G29: 324418.68 | H29: 0 | I29: 26239.83 | J29: 26239.83 | K29: N/A | L29: 0 | M29: 0 | N29: 0 | O29: 0 | V29: Park and Recreation | W29: Derek Fuller | Z29: Replace | AA29: P&R Fee in Lieu of Fund | AE29: Awaiting Ground Breaking (~8/4), CO No. 1 for BOS approval next meeting (Rebar added in curb).
A30: =A29+1 -> 29 | B30: Macclesfield Park Master Plan | C30: Macclesfield Park Master Plan | D30: Park and Rec | E30: 07-454-313 | F30: 0 | G30: 1766.7 | H30: 0 | I30: 0 | J30: 0 | K30: N/A | L30: 0 | M30: 0 | N30: 0 | O30: 0 | V30: Park and Recreation | W30: Monica Tierney
A31: =A30+1 -> 30 | B31: 5 Mile Woods Boardwalk Expansion - 2026 | C31: 5 Mile Woods Boardwalk Expansion - 2026 | D31: Park and Rec | E31: 05-454-700 | F31: 0 | G31: 0 | H31: 10000 | I31: 7446.66 | J31: 20000 | K31: 1 | L31: 0 | M31: 0 | N31: 0 | O31: 0 | P31: PECO Green Region Grant - Deadline Dec - 2026 | Q31: 05-354-011 | R31: Awarded | S31: 10000 | T31: 10000 | U31: 10000 | V31: Park and Recreation | W31: Derek Fuller | AA31: Park and Recreation Fund | AE31: Getting quotes for materials
A32: =A31+1 -> 31 | B32: John Deere - Z-Turn Mower 960M | C32: Zero Turn Mower Replacement | D32: Park and Rec | E32: 05-454-700 | F32: 0 | G32: 0 | H32: 13000 | I32: 9771.04 | J32: 9771.04 | K32: N/A | L32: 13000 | M32: 13000 | O32: 0 | V32: Park and Recreation | W32: Derek Fuller | AA32: Park and Recreation Fund
A33: =A32+1 -> 32 | B33: Revere Pickleball Park Court Replacement Design | C33: Revere Pickleball Park Court Replacement Design | D33: Park and Rec | E33: 06-454-700 | F33: 0 | G33: 0 | H33: 250000 | I33: 29436.8 | J33: 33750 | K33: 0 | L33: 0 | M33: 0 | N33: 0 | O33: 0 | V33: Park and Recreation | W33: Derek Fuller | AA33: P&R Fee in Lieu of Fund
A34: =A33+1 -> 33 | B34: Revere Pickleball Park Court Replacement Construction | C34: Revere Pickleball Park Court Replacement Construction | D34: Park and Rec | E34: 05-454-700 | F34: 0 | G34: 0 | H34: 0 | I34: 0 | J34: 0 | K34: 1 | L34: 479600 | M34: 0 | N34: 0 | O34: 0 | V34: Park and Recreation | W34: Derek Fuller
A35: =A34+1 -> 34 | B35: Community Courts Replacement Project - Engineering/Design | C35: Community Courts Replacement Project - Engineering/Design | D35: Park and Rec | E35: 06-454-700 05-454-700 | F35: 0 | G35: 0 | H35: 25000 | I35: 0 | J35: 0 | K35: 0.05 | L35: 40000 | M35: 0 | N35: 0 | O35: 0 | V35: Park and Recreation | W35: Derek Fuller | AA35: P&R Fee in Lieu of Fund
A36: =A35+1 -> 35 | B36: Heacock Medows (Cardinal/Finch) Basketball Court Replacement | C36: Heacock Medows (Cardinal/Finch) Basketball Court Replacement | D36: Park and Rec | E36: 05-454-700 | F36: 0 | G36: 0 | H36: 0 | I36: 0 | J36: 0 | K36: 0 | L36: 0 | M36: 0 | N36: 170000 | O36: 0 | V36: Park and Recreation | W36: Derek Fuller | AA36: TBD
A37: =A36+1 -> 36 | B37: Memorial Park Basketball Court Minor Crack Repair | C37: Memorial Park Basketball Court Minor Crack Repair | D37: Park and Rec | E37: 05-454-700 | F37: 0 | G37: 0 | H37: 0 | I37: 0 | J37: 0 | K37: N/A | L37: 0 | M37: 6000 | N37: 0 | O37: 0 | V37: Park and Recreation | W37: Derek Fuller | AA37: TBD
A38: =A37+1 -> 37 | B38: Heacock Medows (Cardinal/Finch) Pickleball/Tennis Court Minor Crack Repair | C38: Heacock Medows (Cardinal/Finch) Pickleball/Tennis Court Minor Crack Repair | D38: Park and Rec | E38: 05-454-700 | F38: 0 | G38: 0 | H38: 0 | I38: 0 | J38: 0 | K38: N/A | L38: 0 | M38: 0 | N38: 6000 | O38: 0 | V38: Park and Recreation | W38: Derek Fuller | AA38: TBD
A39: =A38+1 -> 38 | B39: Schuyler Tennis Court Minor Crack Repair | C39: Schuyler Tennis Court Minor Crack Repair | D39: Park and Rec | E39: 05-454-700 | F39: 0 | G39: 0 | H39: 0 | I39: 0 | J39: 0 | K39: N/A | L39: 0 | M39: 0 | N39: 6000 | O39: 0 | V39: Park and Recreation | W39: Derek Fuller | AA39: TBD
A40: =A39+1 -> 39 | B40: Kids Kingdom Playground Recontruction | C40: Reconstruction of Kids Kingdom Playground Including Bathroom Building Renovations | D40: Park and Rec | E40: 05-454-700 | F40: 0 | G40: 0 | H40: 0 | I40: 0 | J40: 0 | K40: N/A | L40: 0 | M40: 0 | N40: 3500000 | O40: 0 | V40: Park and Recreation | W40: Derek Fuller
...

Sheet Fire 2025-2030
A1: # | B1: Project Name | C1: Project Description | D1: Project Category | E1: Account | F1: 2025 Budget | G1: 2025 Actuals | H1: 2026 Budget | I1: 2026 Actuals | J1: 2026 Projection | K1: 2027 Budget | L1: 2028 Budget | M1: 2029 Budget | N1: 2030 Budget | O1: Grant Name | P1: Account | Q1: Grant Status | R1: Grant Budget | S1: Grant Actuals | T1: Grant Projected | U1: Department | V1: Project Manager | W1: Asset Category | X1: Useful Life | Y1: Replace/New | Z1: Funding Source | AA1: Bid/RFP/Quote | AB1: Expected savings (cost) of project on operating ($) | AC1: Rationale for impact on operating | AD1: Notes
A12: Total | F12: =SUM(F2:F11) -> 0 | G12: =SUM(G2:G11) -> 0 | H12: =SUM(H2:H11) -> 0 | I12: =SUM(I2:I11) -> 0 | J12: =SUM(J2:J11) -> 0 | K12: =SUM(K2:K11) -> 0 | L12: =SUM(L2:L11) -> 0 | M12: =SUM(M2:M11) -> 0 | N12: =SUM(N2:N11) -> 0 | R12: =SUM(R2:R11) -> 0 | S12: =SUM(S2:S11) -> 0 | T12: =SUM(T2:T11) -> 0

Sheet Golf 2025-2030
A1: # | B1: Project Name | C1: Project Description | D1: Project Category | E1: Account | F1: 2025 Budget | G1: 2025 Actuals | H1: 2026 Budget | I1: 2026 Actuals | J1: 2026 Projection | K1: 2027 Budget | L1: 2028 Budget | M1: 2029 Budget | N1: 2030 Budget | O1: Grant Name | P1: Account | Q1: Grant Status | R1: Grant Budget | S1: Grant Actuals | T1: Grant Projected | U1: Department | V1: Project Manager | W1: Asset Category | X1: Useful Life | Y1: Replace/New | Z1: Funding Source | AA1: Bid/RFP/Quote | AB1: Expected savings (cost) of project on operating ($) | AC1: Rationale for impact on operating | AD1: Notes
A2: 1 | B2: Bar Renovation | C2: Bar Renovation | D2: Golf | E2: 15-452-700 | F2: 150000 | G2: 157959.64 | H2: 0 | I2: 0 | J2: 0 | K2: 0 | L2: 0 | M2: 0 | N2: 0 | U2: Golf | V2: Mike Attara | Y2: Replace | Z2: Golf Fund
A3: =A2+1 -> 2 | B3: Beverage Cart | C3: Beverage Cart | D3: Golf | E3: 15-452-700 | F3: 0 | G3: 8700 | H3: 0 | I3: 0 | J3: 0 | K3: 0 | L3: 0 | M3: 0 | N3: 0 | U3: Golf | V3: Mike Attara | Y3: Replace | Z3: Golf Fund
A4: =A3+1 -> 3 | B4: Bunker Reno | C4: Bunker Reno | D4: Golf | E4: 15-452-700 | F4: 25000 | G4: 16784.64 | H4: 0 | I4: 0 | J4: 0 | K4: 0 | L4: 0 | M4: 0 | N4: 0 | U4: Golf | V4: Mike Attara | Y4: Replace | Z4: Golf Fund
A5: =A4+1 -> 4 | B5: Cart Path Pavement Patching | C5: Cart Path Pavement Patching | D5: Golf | E5: 15-452-700 | F5: 0 | G5: 10028.81 | H5: 0 | I5: 17218 | J5: 17218 | K5: 0 | L5: 0 | M5: 0 | N5: 0 | U5: Golf | V5: Mike Attara | Y5: Maintenance
A6: =A5+1 -> 5 | B6: 9th hole pond lined and dredged | C6: Pond dredge and lined | D6: Golf | E6: 15-452-700 | F6: 0 | G6: 0 | H6: 0 | I6: 0 | J6: 0 | K6: 0 | M6: 0 | N6: 1000000 | U6: Golf | V6: Mike Attara | Y6: Replace | Z6: Golf Fund and Golf Capital
A7: =A6+1 -> 6 | B7: New well on 15 | C7: add a new well on hole 15 to tie to pond on 9 | D7: Golf | E7: 15-452-700 | F7: 0 | G7: 0 | H7: 100000 | I7: 0 | J7: 0 | K7: 150000 | L7: 0 | M7: 0 | N7: 0 | U7: Golf | V7: Mike Attara | Y7: New | Z7: Golf Fund and Golf Capital
A8: =A7+1 -> 7 | B8: Water service for pond | C8: eliminate sewer charges | D8: Golf | E8: 15-452-700 | F8: 0 | G8: 0 | H8: 150000 | I8: 6407 | J8: 170334.62 | K8: 0 | L8: 0 | M8: 0 | N8: 0 | U8: Golf | V8: Mike Attara | Y8: Replace | Z8: Golf Fund and Golf Capital
A9: =A8+1 -> 8 | B9: Bunker Reno | C9: Complete fairway bunkers | D9: Golf | E9: 15-452-700 | F9: 0 | G9: 0 | H9: 0 | I9: 0 | J9: 0 | L9: 0 | M9: 100000 | N9: 0 | U9: Golf | V9: Mike Attara | Z9: TBD
A10: =A9+1 -> 9 | B10: Driving Range Field Work | C10: Regrade the range | D10: Golf | E10: 15-452-700 | F10: 0 | G10: 0 | H10: 0 | I10: 0 | J10: 0 | K10: 0 | L10: 75000 | M10: 75000 | N10: 0 | U10: Golf | V10: Mike Attara | Z10: TBD
A11: =A10+1 -> 10 | B11: Cover the Tees | C11: Cover the range 6 stalls | D11: Golf | E11: 15-452-700 | F11: 0 | G11: 0 | H11: 0 | I11: 0 | J11: 0 | K11: 0 | L11: 200000 | M11: 0 | N11: 0 | U11: Golf | V11: Mike Attara | Z11: TBD
A12: =A11+1 -> 11 | B12: Deck Replacement | C12: Upgrade Deck to Composite | D12: Golf | E12: 15-452-700 | F12: 0 | G12: 0 | H12: 0 | I12: 0 | J12: 0 | K12: 250000 | L12: 0 | M12: 0 | N12: 0 | U12: Golf | V12: Mike Attara | Z12: TBD
A13: =A12+1 -> 12 | B13: Clubhouse improvements windows/paint/roof | C13: Update failing windows, paint and roof. | D13: Golf | E13: 15-452-700 | F13: 0 | G13: 0 | H13: 0 | K13: 80000 | L13: 100000 | M13: 50000 | N13: 0 | U13: Golf | V13: Mike Attara
A14: =A13+1 -> 13 | B14: Cart path improvements | C14: Cart path improvements annually | D14: Golf | E14: 15-452-700 | F14: 0 | G14: 0 | H14: 0 | K14: 0 | L14: 0 | M14: 0 | N14: 0 | U14: Golf | V14: Mike Attara
A15: Total | F15: =SUM(F2:F14) -> 175000 | G15: =SUM(G2:G14) -> 193473.09 | H15: =SUM(H2:H14) -> 250000 | I15: =SUM(I2:I14) -> 23625 | J15: =SUM(J2:J14) -> 187552.62 | K15: =SUM(K2:K14) -> 480000 | L15: =SUM(L2:L14) -> 375000 | M15: =SUM(M2:M14) -> 225000 | N15: =SUM(N2:N14) -> 1000000 | R15: =SUM(R2:R12) -> 0 | S15: =SUM(S2:S12) -> 0 | T15: =SUM(T2:T12) -> 0

Sheet IT 2025-2030
A1: # | B1: Project Name | C1: Project Description | D1: Project Category | E1: Account | F1: 2025 Budget | G1: 2025 Actuals | H1: 2026 Budget | I1: 2026 Actuals | J1: 2026 Projection | K1: 2027 Budget | L1: 2028 Budget | M1: 2029 Budget | N1: 2030 Budget | O1: Grant Name | P1: Account | Q1: Grant Status | R1: Grant Budget | S1: Grant Actuals | T1: Grant Projected | U1: Department | V1: Project Manager | W1: Asset Category | X1: Useful Life | Y1: Replace/New | Z1: Funding Source | AA1: Bid/RFP/Quote | AB1: Expected savings (cost) of project on operating ($) | AC1: Rationale for impact on operating | AD1: Notes
A2: 1 | B2: Computers | C2: Computers | D2: IT | E2: 19-407-700 | F2: 0 | G2: 74240.11 | H2: 0 | I2: 0 | J2: 0 | K2: 0 | L2: 0 | M2: 0 | N2: 0 | U2: IT | V2: ASK Technology | Z2: TBD
A3: 2 | B3: 2026 Server Project | C3: 2026 Server Project | D3: IT | E3: 19-407-700 | F3: 0 | G3: 0 | H3: 0 | I3: 223891.18 | J3: =I3 -> 223891.18 | K3: 0 | L3: 0 | M3: 0 | N3: 0 | U3: IT | V3: ASK Technology
A4: 3 | B4: 2027 IT Firewall, Switches, and Access Points - Admin Building | C4: 2027 IT Firewall, Switches, and Access Points | D4: IT | E4: 19-407-700 | F4: 0 | G4: 0 | H4: 0 | I4: 0 | J4: 0 | K4: =130830 -> 130830 | L4: 0 | M4: 0 | N4: 0 | U4: IT | V4: ASK Technology | Z4: Bond Fund and General Fund
A5: 4 | B5: 2027 IT Firewall, Switches, and Access Points - P&R | C5: 2027 IT Firewall, Switches, and Access Points - P&R | D5: IT | E5: 05-409-450 | F5: 0 | G5: 0 | H5: 0 | I5: 0 | J5: 0 | K5: 21960 | L5: 0 | M5: 0 | N5: 0
A6: 5 | B6: 2027 IT Firewall, Switches, and Access Points - Pool | C6: 2027 IT Firewall, Switches, and Access Points - P&R | D6: IT | E6: 09-452-450 | F6: 0 | G6: 0 | H6: 0 | I6: 0 | J6: 0 | K6: 32924.88 | L6: 0 | M6: 0 | N6: 0
A7: Total | F7: =SUM(F2:F6) -> 0 | G7: =SUM(G2:G6) -> 74240.11 | H7: =SUM(H2:H6) -> 0 | I7: =SUM(I2:I6) -> 223891.18 | J7: =SUM(J2:J6) -> 223891.18 | K7: =SUM(K2:K6) -> 185714.88 | L7: =SUM(L2:L6) -> 0 | M7: =SUM(M2:M6) -> 0 | N7: =SUM(N2:N6) -> 0 | R7: =SUM(R2:R6) -> 0 | S7: =SUM(S2:S6) -> 0 | T7: =SUM(T2:T6) -> 0

Sheet Open Space 2025-2030
A1: # | B1: Project Name | C1: Project Description | D1: Project Category | E1: Account | F1: 2025 Budget | G1: 2025 Actuals | H1: 2026 Budget | I1: 2026 Actuals | J1: 2026 Projection | K1: 2027 Budget | L1: 2028 Budget | M1: 2029 Budget | N1: 2030 Budget | O1: Grant Name | P1: Account | Q1: Grant Status | R1: Grant Budget | S1: Grant Actuals | T1: Grant Projected | U1: Department | V1: Project Manager | W1: Asset Category | X1: Useful Life | Y1: Replace/New | Z1: Funding Source | AA1: Bid/RFP/Quote | AB1: Expected savings (cost) of project on operating ($) | AC1: Rationale for impact on operating | AD1: Notes
A2: 1 | B2: Future Open Space Acquisition (1377 Woodside Road) | C2: Future Open Space Acquisition (1377 Woodside Road) | D2: Open Space | E2: 19-461-700 | F2: 0 | G2: 0 | H2: 0 | I2: 0 | J2: 0 | K2: 2737500 | L2: 0 | M2: 0 | N2: 0 | Z2: Bond Fund - $262,851.81/Remainder debt issued
A3: 2 | B3: Future Open Space Acquisition (Willard Family Properties) | C3: Future Open Space Acquisition (Willard Family Properties) | D3: Open Space | E3: 19-461-700 | F3: 0 | G3: 0 | H3: 0 | I3: 0 | J3: 0 | K3: 1180000 | L3: 0 | M3: 0 | N3: 0 | Z3: New Debt
A4: 3 | B4: Future Open Space Acquisition (Oxford Valley Road) | C4: Future Open Space Acquisition (Oxford Valley Road) | D4: Open Space | E4: 19-461-700 | F4: 0 | G4: 0 | H4: 0 | I4: 0 | J4: 0 | K4: 300000 | L4: 0 | M4: 0 | N4: 0 | Z4: New Debt
A5: 4 | B5: Future Open Space Acquisition (Big Oak Road) | C5: Future Open Space Acquisition (Big Oak Road) | D5: Open Space | E5: 19-461-700 | F5: 0 | G5: 0 | H5: 0 | I5: 0 | J5: 0 | K5: 2100000 | L5: 0 | M5: 0 | N5: 0 | Z5: New Debt
A6: Total | F6: =SUM(F2:F5) -> 0 | G6: =SUM(G2:G5) -> 0 | H6: =SUM(H2:H5) -> 0 | I6: =SUM(I2:I5) -> 0 | J6: =SUM(J2:J5) -> 0 | K6: =SUM(K2:K5) -> 6317500 | L6: =SUM(L2:L5) -> 0 | M6: =SUM(M2:M5) -> 0 | N6: =SUM(N2:N5) -> 0 | R6: =SUM(R2:R2) -> 0 | S6: =SUM(S2:S2) -> 0 | T6: =SUM(T2:T2) -> 0

Sheet Park and Rec-Pool 2025-2030
A1: # | B1: Project Name | C1: Project Description | D1: Project Category | E1: Account | F1: 2025 Budget | G1: 2025 Actuals | H1: 2026 Budget | I1: 2026 Actuals | J1: 2026 Projection | K1: 2027 Budget | L1: 2028 Budget | M1: 2029 Budget | N1: 2030 Budget | O1: Grant Name | P1: Account | Q1: Grant Status | R1: Grant Budget | S1: Grant Actuals | T1: Grant Projected | U1: Department | V1: Project Manager | W1: Asset Category | X1: Useful Life | Y1: Replace/New | Z1: Funding Source | AA1: Bid/RFP/Quote | AB1: Expected savings (cost) of project on operating ($) | AC1: Rationale for impact on operating | AD1: Notes
A2: 1 | B2: Basketball Mill and Pave P1/P2 | C2: Keystone Sports Construction Basketball Mill and Pave P1/P2 | D2: Park and Rec | E2: 06-454-700 | F2: 0 | G2: 42188.25 | H2: 0 | I2: 0 | J2: 0 | K2: 0 | L2: 0 | M2: 0 | N2: 0
A3: =A2+1 -> 2 | B3: Memorial Park Expansion Engineering | C3: Memorial Park Expansion Engineering | D3: Park and Rec | E3: 06-454-700 | F3: 1210000 | G3: 40690.25 | H3: 800000 | I3: =6421.3+2164.38+3030.12+7791.75+16962.16 -> 36369.71 | J3: =I3+24000 -> 60369.71 | K3: 0 | L3: 0 | M3: 0 | N3: 0 | O3: DCED Grant - Deadline Jun - 2026 - No Match | P3: 05-354-011 | Q3: Awarded | R3: 900000 | T3: 900000 | U3: Park and Recreation | V3: Derek Fuller | Y3: Replace | Z3: P&R Fee in Lieu of Fund | AD3: While the original budget was over the grant amount we are adjusting to try to keep the project under the no match DCED amount of $900,000
A4: =A3+1 -> 3 | B4: Memorial Park Expansion Construction | C4: Memorial Park Expansion Construction | D4: Park and Rec | E4: 05-454-700 | F4: 0 | G4: 0 | H4: 0 | I4: 0 | J4: 0 | K4: 822940.04 | L4: 0 | M4: 0 | N4: 0
A5: =A4+1 -> 4 | B5: Kids Kingdom Design | C5: Kids Kingdom Design | D5: Park and Rec | E5: 05-454-700 | F5: 120000 | G5: 0 | H5: 0 | I5: 0 | J5: 0 | K5: 0 | L5: 150000 | M5: 0 | N5: 0 | U5: Park and Recreation | V5: Derek Fuller | Y5: Replace | Z5: TBD
A6: =A5+1 -> 5 | B6: Trail Maintenance | C6: Trail Maintenance | D6: Park and Rec | E6: 06-454-700 | F6: 70000 | G6: 0 | H6: 0 | I6: 0 | J6: 0 | K6: 0 | L6: 0 | M6: 0 | N6: 0 | U6: Park and Recreation | V6: Monica Tierney | Y6: Replace | Z6: P&R Fee in Lieu of Fund
A7: =A6+1 -> 6 | B7: Cardinal Court Repair with Sound Barriers | C7: Cardinal Court Repair with Sound Barriers | D7: Park and Rec | E7: 06-454-700 | F7: 400000 | G7: 324418.68 | H7: 0 | I7: 26239.83 | J7: =I7 -> 26239.83 | K7: 0 | L7: 0 | M7: 0 | N7: 0 | U7: Park and Recreation | V7: Monica Tierney | Y7: Replace | Z7: P&R Fee in Lieu of Fund | AD7: Awaiting Ground Breaking (~8/4), CO No. 1 for BOS approval next meeting (Rebar added in curb).
A8: =A7+1 -> 7 | B8: Macclesfield Park Master Plan | C8: Macclesfield Park Master Plan | D8: Park and Rec | E8: 07-454-313 | F8: 0 | G8: 1766.7 | H8: 0 | I8: 0 | J8: 0 | K8: 0 | L8: 0 | M8: 0 | N8: 0
A9: =A8+1 -> 8 | B9: 5 Mile Woods Boardwalk Expansion - 2026 | C9: 5 Mile Woods Boardwalk Expansion - 2026 | D9: Park and Rec | E9: 05-454-700 | F9: 0 | G9: 0 | H9: 10000 | I9: 7446.66 | J9: 20000 | K9: 0 | L9: 0 | M9: 0 | N9: 0 | O9: PECO Green Region Grant - Deadline Dec - 2026 | P9: 05-354-011 | Q9: Awarded | R9: 10000 | S9: 10000 | T9: 10000 | U9: Park and Recreation | V9: Derek Fuller | Z9: Park and Recreation Fund | AD9: Getting quotes for materials
A10: =A9+1 -> 9 | B10: John Deere - Z-Turn Mower 960M | C10: Zero Turn Mower Replacement | D10: Park and Rec | E10: 05-454-700 | F10: 0 | G10: 0 | H10: 13000 | I10: 9771.04 | J10: =I10 -> 9771.04 | K10: 13000 | L10: 13000 | N10: 0 | U10: Park and Recreation | V10: Derek Fuller | Z10: Park and Recreation Fund
A11: =A10+1 -> 10 | B11: Revere Pickleball Park Court Replacement Design | C11: Revere Pickleball Park Court Replacement Design | D11: Park and Rec | E11: 06-454-700 | F11: 0 | G11: 0 | H11: 250000 | I11: =5875+20061.8+3500 -> 29436.8 | J11: 33750 | K11: 0 | L11: 0 | M11: 0 | N11: 0 | U11: Park and Recreation | V11: Derek Fuller | Z11: P&R Fee in Lieu of Fund
A12: =A11+1 -> 11 | B12: Revere Pickleball Park Court Replacement Construction | C12: Revere Pickleball Park Court Replacement Construction | D12: Park and Rec | E12: 05-454-700 | F12: 0 | G12: 0 | H12: 0 | I12: 0 | J12: 0 | K12: =436000*110% -> 479600 | L12: 0 | M12: 0 | N12: 0
A13: =A12+1 -> 12 | B13: Community Courts Replacement Project - Engineering/Design | C13: Community Courts Replacement Project - Engineering/Design | D13: Park and Rec | E13: 06-454-700 05-454-700 | F13: 0 | G13: 0 | H13: 25000 | I13: 0 | J13: 0 | K13: 40000 | L13: 0 | M13: 0 | N13: 0 | U13: Park and Recreation | V13: Derek Fuller | Z13: P&R Fee in Lieu of Fund
A14: =A13+1 -> 13 | B14: Heacock Medows (Cardinal/Finch) Basketball Court Replacement | C14: Heacock Medows (Cardinal/Finch) Basketball Court Replacement | D14: Park and Rec | E14: 05-454-700 | F14: 0 | G14: 0 | H14: 0 | I14: 0 | J14: 0 | K14: 0 | L14: 0 | M14: 170000 | N14: 0 | U14: Park and Recreation | V14: Derek Fuller | Z14: TBD
A15: =A14+1 -> 14 | B15: Memorial Park Basketball Court Minor Crack Repair | C15: Memorial Park Basketball Court Minor Crack Repair | D15: Park and Rec | E15: 05-454-700 | F15: 0 | G15: 0 | H15: 0 | I15: 0 | J15: 0 | K15: 0 | L15: 6000 | M15: 0 | N15: 0 | U15: Park and Recreation | V15: Derek Fuller | Z15: TBD
A16: =A15+1 -> 15 | B16: Heacock Medows (Cardinal/Finch) Pickleball/Tennis Court Minor Crack Repair | C16: Heacock Medows (Cardinal/Finch) Pickleball/Tennis Court Minor Crack Repair | D16: Park and Rec | E16: 05-454-700 | F16: 0 | G16: 0 | H16: 0 | I16: 0 | J16: 0 | K16: 0 | L16: 0 | M16: 6000 | N16: 0 | U16: Park and Recreation | V16: Derek Fuller | Z16: TBD
A17: =A16+1 -> 16 | B17: Schuyler Tennis Court Minor Crack Repair | C17: Schuyler Tennis Court Minor Crack Repair | D17: Park and Rec | E17: 05-454-700 | F17: 0 | G17: 0 | H17: 0 | I17: 0 | J17: 0 | K17: 0 | L17: 0 | M17: 6000 | N17: 0 | U17: Park and Recreation | V17: Derek Fuller | Z17: TBD
A18: =A17+1 -> 17 | B18: Kids Kingdom Playground Recontruction | C18: Reconstruction of Kids Kingdom Playground Including Bathroom Building Renovations | D18: Park and Rec | E18: 05-454-700 | F18: 0 | G18: 0 | H18: 0 | I18: 0 | J18: 0 | K18: 0 | L18: 0 | M18: 3500000 | N18: 0
A19: =A18+1 -> 18 | B19: Garden of Reflection Memorial Improvements | C19: 9/11 Lights, Benches, Walkway, Fountain | D19: Park and Rec | E19: 41-454-700 | F19: 0 | G19: 0 | H19: 1000000 | I19: 0 | J19: 0 | K19: 200000 | L19: 0 | M19: 0 | N19: 0 | O19: LSA Grant - Awarded $200,000 | P19: 40-357-011 | Q19: Awarded | R19: 200000 | U19: Park and Recreation | V19: Derek Fuller | Z19: Grant/Garden of Refelction Capital Fund
A20: =A19+1 -> 19 | B20: Cardinal Courts - Additional Pedestrian Access | C20: Installation of Additional Sidewalk & Necessary Steps | D20: Park and Rec | E20: 05-454-700 | F20: 0 | G20: 0 | H20: 0 | I20: 0 | J20: 0 | K20: 25000 | L20: 0 | M20: 0 | N20: 0
A21: =A20+1 -> 20 | B21: Bike Path Trail Maintenance Program | C21: Reoccuring Maintenance, Rehabilitation, Reconstruction of Existing Bike Path Network - Including ADA Enhancements at Curb Ramps | D21: Park and Rec | E21: 05-454-700 | F21: 0 | G21: 0 | H21: 0 | I21: 0 | J21: 0 | K21: 300000 | L21: 350000 | M21: 350000 | N21: 400000
A22: =A21+1 -> 21 | B22: Macclesfield Park LED Field Lighting Upgrades | C22: Macclesfield Park LED Lighting Ugrades - Update Exisiting System to LEDs & New Controllers for all Existing Field Lights | D22: Park and Rec | E22: 05-454-700 | F22: 0 | G22: 0 | H22: 0 | I22: 0 | J22: 0 | K22: 0 | L22: 2000000 | M22: 0 | N22: 0
A23: =A22+1 -> 22 | B23: Macclesfield Park Baseball Field Rehabilitations | C23: Macclesfield Park Baseball Field Rehabiliation - Fencing, Dugouts, Infields | D23: Park and Rec | E23: 05-454-700 | F23: 0 | G23: 0 | H23: 0 | I23: 0 | J23: 0 | K23: 0 | L23: 100000 | M23: 0 | N23: 0
A24: =A23+1 -> 23 | B24: Community Courts Replacement Project - Construction | C24: Community Courts Complete Rehabilitation Project - Construction | D24: Park and Rec | E24: 05-454-700 | F24: 0 | G24: 0 | H24: 0 | I24: 0 | J24: 0 | K24: 0 | L24: 600000 | M24: 0 | N24: 0
A25: =A24+1 -> 24 | B25: Community Park LED Field Lighting Upgrades | C25: Community Park LED Lighting Ugrades - Update Exisiting System to LEDs & New Controllers for Softball, Tennis/Pickleball, Basketball | D25: Park and Rec | E25: 05-454-700 | F25: 0 | G25: 0 | H25: 0 | I25: 0 | J25: 0 | K25: 0 | L25: 245000 | M25: 0 | N25: 0
A26: =A25+1 -> 25 | B26: John Deere - Wide Area Mower 1300 - Replacement | C26: John Deere - Wide Area Mower 1300 - Replacing Existing 2018 WAM (Lease 20 Payments) | D26: Park and Rec | E26: 05-454-700 | F26: 0 | G26: 0 | H26: 0 | I26: 0 | J26: 0 | K26: 0 | L26: 28000 | M26: 28000 | N26: 28000
A27: =A26+1 -> 26 | B27: Field Tractor Replacement | C27: Replacement of Existing 2003 Field Tractor | D27: Park and Rec | E27: 05-454-700 | F27: 0 | G27: 0 | H27: 0 | I27: 0 | J27: 0 | K27: 0 | L27: 0 | M27: 90000 | N27: 0
A28: =A27+1 -> 27 | B28: Schuyler Courts Minor Crack Repair | C28: Schuyler Courts Minor Crack Repair | D28: Park and Rec | E28: 05-454-700 | F28: 0 | G28: 0 | H28: 0 | I28: 0 | J28: 0 | K28: 0 | L28: 0 | M28: 6000 | N28: 0
A29: =A28+1 -> 28 | B29: Dog Park Fence Replacement | C29: Replacement of Perimeter Fencing at Dog Park | D29: Park and Rec | E29: 05-454-700 | F29: 0 | G29: 0 | H29: 0 | I29: 0 | J29: 0 | K29: 0 | L29: 0 | M29: 0 | N29: 55000
A30: =A29+1 -> 29 | B30: Cardinal Courts Minor Crack Repair | C30: Cardinal Courts Minor Crack Repair | D30: Park and Rec | E30: 05-454-700 | F30: 0 | G30: 0 | H30: 0 | I30: 0 | J30: 0 | K30: 0 | L30: 0 | M30: 0 | N30: 6000
A31: =A30+1 -> 30 | B31: Pool Security Cameras | C31: Replace 1 set of Pool Security Cameras | D31: Pool | E31: 09-452-700 | F31: 14000 | G31: 19762.1 | H31: 0 | I31: 0 | J31: 0 | K31: 0 | L31: 0 | M31: 0 | N31: 0 | O31: DVPLT and DVWCT Grants | P31: 09-357-011 | Q31: Awarded | R31: 5762.11 | S31: 5762.11 | T31: 5762.11 | U31: Park and Recreation | V31: Monica Tierney | Y31: Replace | Z31: Grant/Pool
A32: =A31+1 -> 31 | B32: Pool Filter Replacement | C32: Replace oldest pool filter from 1981 | D32: Pool | E32: 06-454-700 | F32: 120000 | G32: 84017.46 | H32: 0 | I32: 0 | J32: 0 | K32: 0 | L32: 0 | M32: 0 | N32: 0 | U32: Park and Recreation | V32: Monica Tierney | X32: 22 Years | Y32: Replace | Z32: P&R Fee in Lieu of Fund
A33: =A32+1 -> 32 | B33: Pool Heater Replacement | C33: Pool Heater Replacement | D33: Pool | E33: 06-454-700 | F33: 20000 | G33: 23455 | H33: 0 | I33: 0 | J33: 0 | K33: 0 | L33: 0 | M33: 0 | N33: 0 | U33: Park and Recreation | V33: Monica Tierney | Y33: Replace | Z33: P&R Fee in Lieu of Fund
A34: =A33+1 -> 33 | B34: Pool Heater Replacements | C34: Baby Pool | D34: Pool | E34: 06-454-700 | F34: 0 | G34: 0 | H34: 9365 | I34: 7860 | J34: 7860 | K34: 0 | L34: 0 | M34: 0 | N34: 0 | U34: Park and Recreation | V34: Lynn Todd/Derek Fuller | Z34: TBD
A35: =A34+1 -> 34 | B35: Pool Heater Replacements | C35: Olympic | D35: Pool | E35: 09-452-700 | F35: 0 | G35: 0 | H35: 0 | I35: 0 | J35: 0 | K35: 53000 | L35: 0 | M35: 0 | N35: 0 | U35: Park and Recreation | V35: Lynn Todd/Derek Fuller | Z35: TBD
A36: =A35+1 -> 35 | B36: Pool Slide Replacement/Upgrade Project | C36: Evaluatation and Replacement/Upgrades to Pool Slides (Multi-Year Project) | D36: Pool | E36: 09-452-700 | F36: 0 | G36: 0 | H36: 0 | I36: 0 | J36: 0 | K36: 0 | L36: 150000 | M36: 350000 | N36: 0 | U36: Park and Recreation | V36: Lynn Todd/Derek Fuller | Z36: TBD
A37: =A36+1 -> 36 | B37: Pool Diving Board - Spring Board Replacement | C37: Replacement of the Existing Spring Board Diving Board | D37: Pool | E37: 09-452-700 | F37: 0 | G37: 0 | H37: 0 | I37: 0 | J37: 0 | K37: 8000 | L37: 0 | M37: 0 | N37: 0
A38: =A37+1 -> 37 | B38: Pool Sewer Pump Station Upgrades | C38: Upgrades & Repairs to Sewage Pump Station at the Pool | D38: Pool | E38: 09-452-700 | F38: 0 | G38: 0 | H38: 0 | I38: 0 | J38: 0 | K38: 25000 | L38: 0 | M38: 0 | N38: 0
A39: =A38+1 -> 38 | B39: Pool ADA Pool Access Lift Replacements | C39: Replacement of 2x Exising ADA Chair Lifts | D39: Pool | E39: 09-452-700 | F39: 0 | G39: 0 | H39: 0 | I39: 0 | J39: 0 | K39: 0 | L39: 16500 | M39: 0 | N39: 0
A40: =A39+1 -> 39 | B40: Pool Building Facility Upgrades - Design & Reconstruction Project | C40: Design & Reconstruction of the Restroom's and Pool Facility Buildings Including ADA Improvements, Roofing, HVAC | D40: Pool | E40: 09-452-700 | F40: 0 | G40: 0 | H40: 0 | I40: 0 | J40: 0 | K40: 0 | L40: 1500000 | M40: 0 | N40: 0
...

Sheet Patterson Farm 2025-2030
A1: # | B1: Project Name | C1: Project Description | D1: Project Category | E1: Account | F1: 2025 Budget | G1: 2025 Actuals | H1: 2026 Budget | I1: 2026 Actuals | J1: 2026 Projection | K1: 2027 Budget | L1: 2028 Budget | M1: 2029 Budget | N1: 2030 Budget | O1: Grant Name | P1: Account | Q1: Grant Status | R1: Grant Budget | S1: Grant Actuals | T1: Grant Projected | U1: Department | V1: Project Manager | W1: Asset Category | X1: Useful Life | Y1: Replace/New | Z1: Funding Source | AA1: Bid/RFP/Quote | AB1: Expected savings (cost) of project on operating ($) | AC1: Rationale for impact on operating | AD1: Notes
A2: 1 | B2: Patterson Farm Building Improvements | C2: Patterson Farm Building Improvements | D2: Patterson Farm | E2: 45-461-700 | F2: 522080 | G2: 22974 | H2: 500545 | I2: 0 | J2: 0 | K2: 0 | L2: 0 | M2: 0 | N2: 0 | U2: Patterson Farm | V2: Derek Fuller | Z2: 2016 Bond/Patterson Farm Fund
A3: =A2+1 -> 2 | B3: Patterson Farm Painting | C3: Patterson Farm Painting | D3: Patterson Farm | E3: 45-461-700 | F3: 177920 | G3: 177945 | H3: 0 | I3: 0 | J3: 76536 | K3: 0 | L3: 0 | M3: 0 | N3: 0 | U3: Patterson Farm | V3: Derek Fuller | Z3: 2016 Bond/Patterson Farm Fund
A4: =A3+1 -> 3 | B4: Phase 2 ESA - Engineering/Design/Testing/Removal | C4: Phase 2 ESA - Engineering/Design/Testing/Removal | D4: Patterson Farm | E4: 45-461-700 | F4: 0 | G4: 0 | H4: 0 | I4: 0 | J4: 0 | K4: =90000+35000 -> 125000 | L4: 0 | M4: 0 | N4: 0
A5: =A4+1 -> 4 | B5: Patterson Farm Improvement - LSA Grant Design | C5: Patterson Farm Improvement - LSA Grant Design | D5: Patterson Farm | E5: 45-461-700 | F5: 0 | G5: 0 | H5: 0 | I5: 0 | J5: 0 | K5: 99000 | L5: 0 | M5: 0 | N5: 0 | O5: LSA | Q5: Awarded | R5: 860000
A6: =A5+1 -> 5 | B6: Patterson Farm Improvements - LSA Grant Construction | C6: Patterson Farm Improvements - LSA Grant Construction | D6: Patterson Farm | E6: 45-461-700 | F6: 0 | G6: 0 | H6: 0 | I6: 0 | J6: 0 | K6: =774000+284545 -> 1058545 | L6: 0 | M6: 0 | N6: 0
A7: Total | F7: =SUM(F2:F6) -> 700000 | G7: =SUM(G2:G6) -> 200919 | H7: =SUM(H2:H6) -> 500545 | I7: =SUM(I2:I6) -> 0 | J7: =SUM(J2:J6) -> 76536 | K7: =SUM(K2:K6) -> 1282545 | L7: =SUM(L2:L6) -> 0 | M7: =SUM(M2:M6) -> 0 | N7: =SUM(N2:N6) -> 0 | R7: =SUM(R2:R3) -> 0 | S7: =SUM(S2:S3) -> 0 | T7: =SUM(T2:T3) -> 0

Sheet Planning and Zoning 2025-2030
A1: # | B1: Project Name | C1: Project Description | D1: Project Category | E1: Account | F1: 2025 Budget | G1: 2025 Actuals | H1: 2026 Budget | I1: 2026 Actuals | J1: 2026 Projection | K1: 2027 Budget | L1: 2028 Budget | M1: 2029 Budget | N1: 2030 Budget | O1: Grant Name | P1: Account | Q1: Grant Status | R1: Grant Budget | S1: Grant Actuals | T1: Grant Projected | U1: Department | V1: Project Manager | W1: Asset Category | X1: Useful Life | Y1: Replace/New | Z1: Funding Source | AA1: Bid/RFP/Quote | AB1: Expected savings (cost) of project on operating ($) | AC1: Rationale for impact on operating | AD1: Notes
A2: 1 | B2: 1425 River Road | C2: House Elevation Project | D2: Planning and Zoning | E2: 01-414-700 | F2: 0 | G2: 0 | H2: 0 | I2: 0 | J2: 0 | K2: 400000 | L2: 0 | M2: 0 | N2: 0 | O2: FEMA Flood Mitigation Assistant | P2: 01-351-121 | Q2: Applied | R2: 400000 | U2: Planning and Zoning | V2: Dan McCloone | W2: N/A | X2: N/A | Y2: N/A | Z2: Grant | AA2: Bid | AB2: N/A | AC2: A private stormwater flood mitigation project. A wash for the township.
A3: Total | F3: =SUM(F2:F2) -> 0 | G3: =SUM(G2:G2) -> 0 | H3: =SUM(H2:H2) -> 0 | I3: =SUM(I2:I2) -> 0 | J3: =SUM(J2:J2) -> 0 | K3: =SUM(K2:K2) -> 400000 | L3: =SUM(L2:L2) -> 0 | M3: =SUM(M2:M2) -> 0 | N3: =SUM(N2:N2) -> 0 | R3: =SUM(R2:R2) -> 400000 | S3: =SUM(S2:S2) -> 0 | T3: =SUM(T2:T2) -> 0

Sheet Police 2025-2030
A1: # | B1: Project Name | C1: Project Description | D1: Project Category | E1: Account | F1: 2025 Budget | G1: 2025 Actuals | H1: 2026 Budget | I1: 2026 Actuals | J1: 2026 Projection | K1: 2027 Budget | L1: 2028 Budget | M1: 2029 Budget | N1: 2030 Budget | O1: Grant Name | P1: Account | Q1: Grant Status | R1: Grant Budget | S1: Grant Actuals | T1: Grant Projected | U1: Department | V1: Project Manager | W1: Asset Category | X1: Useful Life | Y1: Replace/New | Z1: Funding Source | AA1: Bid/RFP/Quote | AB1: Expected savings (cost) of project on operating ($) | AC1: Rationale for impact on operating | AD1: Notes
A2: 1 | B2: Handgun Replacement and Ammunition | C2: Replace and Upgrade Duty Weapons on regular interval | D2: Police | E2: 19-410-700 | F2: 0 | G2: 0 | H2: 56581 | I2: 0 | J2: 0 | K2: 0 | L2: 0 | M2: 0 | N2: 0 | O2: $12,000 and $44,581 Donation | P2: Foundation | Q2: Donation | R2: 56581 | S2: 56581 | T2: 56581 | U2: Police | V2: Hilghman | W2: Equipment | X2: 6-10 years | Y2: Replace | Z2: Donation | AA2: Quote | AB2: After application of donation and sell back, total is $34,814 | AC2: Equipment necessary for patrol Change to 9mm with Pistol Mounted optic with greater accuracy. | AD2: Ended up donating to the foundation and paying out of the foundation
A3: =A2+1 -> 2 | B3: 2026 - 2 Explorers Upfitted, 1 Tahoe Uplifted, No Lease Term Ends | C3: 2026 - 3 Explorers Upfitted, No Lease Term Ends | D3: Police | E3: 01-410-700 | F3: 0 | G3: 0 | H3: =124640-H4 -> 92640 | I3: 64692 | J3: 86256 | K3: 86256 | L3: 86256 | M3: 0 | N3: 0 | U3: Police | V3: Hilghman | W3: Cars | Z3: General Fund
A4: =A3+1 -> 3 | B4: 2026 - 4 CID Upfits | C4: 2026 - 5 CID Upfits | D4: Police | E4: 01-410-700 | F4: 0 | G4: 0 | H4: 32000 | I4: 0 | J4: 18336.2 | K4: 0 | L4: 0 | M4: 0 | N4: 0
